BEGIN:VCALENDAR
VERSION:2.0
PRODID:-//Putney School of Art and Design - ECPv6.6.3//NONSGML v1.0//EN
CALSCALE:GREGORIAN
METHOD:PUBLISH
X-ORIGINAL-URL:https://www.psad.org.uk
X-WR-CALDESC:Events for Putney School of Art and Design
REFRESH-INTERVAL;VALUE=DURATION:PT1H
X-Robots-Tag:noindex
X-PUBLISHED-TTL:PT1H
BEGIN:VTIMEZONE
TZID:UTC
BEGIN:STANDARD
TZOFFSETFROM:+0000
TZOFFSETTO:+0000
TZNAME:UTC
DTSTART:20260101T000000
END:STANDARD
END:VTIMEZONE
BEGIN:VEVENT
DTSTART;TZID=UTC:20260526T100000
DTEND;TZID=UTC:20260526T160000
DTSTAMP:20260421T082205
CREATED:20260128T183319Z
LAST-MODIFIED:20260420T124206Z
UID:194275-1779789600-1779811200@www.psad.org.uk
SUMMARY:May Half Term - 2 Days: Art & Design for Young People 13-17 Years (0526-14518)
DESCRIPTION:
URL:https://www.psad.org.uk/event/may-half-term-2-days-art-design-for-young-people-13-17-years-3/2026-05-26/
LOCATION:Main Site – Studio 1
CATEGORIES:Course with Tutor
END:VEVENT
BEGIN:VEVENT
DTSTART;TZID=UTC:20260527T100000
DTEND;TZID=UTC:20260527T160000
DTSTAMP:20260421T082205
CREATED:20260128T183319Z
LAST-MODIFIED:20260420T124208Z
UID:194280-1779876000-1779897600@www.psad.org.uk
SUMMARY:May Half Term - 2 Days: Art & Design for Young People 13-17 Years (0526-14518)
DESCRIPTION:
URL:https://www.psad.org.uk/event/may-half-term-2-days-art-design-for-young-people-13-17-years-3/2026-05-27/
LOCATION:Main Site – Studio 1
CATEGORIES:Course with Tutor
END:VEVENT
END:VCALENDAR