BEGIN:VCALENDAR
VERSION:2.0
PRODID:-//Putney School of Art and Design - ECPv6.6.3//NONSGML v1.0//EN
CALSCALE:GREGORIAN
METHOD:PUBLISH
X-WR-CALNAME:Putney School of Art and Design
X-ORIGINAL-URL:https://www.psad.org.uk
X-WR-CALDESC:Events for Putney School of Art and Design
REFRESH-INTERVAL;VALUE=DURATION:PT1H
X-Robots-Tag:noindex
X-PUBLISHED-TTL:PT1H
BEGIN:VTIMEZONE
TZID:UTC
BEGIN:STANDARD
TZOFFSETFROM:+0000
TZOFFSETTO:+0000
TZNAME:UTC
DTSTART:20260101T000000
END:STANDARD
END:VTIMEZONE
BEGIN:VEVENT
DTSTART;TZID=UTC:20260421T140000
DTEND;TZID=UTC:20260421T170000
DTSTAMP:20260420T092750
CREATED:20250710T172551Z
LAST-MODIFIED:20260410T081316Z
UID:169956-1776780000-1776790800@www.psad.org.uk
SUMMARY:Printmaking Etching (All levels) (0426-13856)
DESCRIPTION:
URL:https://www.psad.org.uk/event/printmaking-etching-all-levels-49/2026-04-21/
LOCATION:Main Site – Print Room
CATEGORIES:Course with Tutor
END:VEVENT
BEGIN:VEVENT
DTSTART;TZID=UTC:20260428T140000
DTEND;TZID=UTC:20260428T170000
DTSTAMP:20260420T092751
CREATED:20250710T172551Z
LAST-MODIFIED:20260410T081318Z
UID:169957-1777384800-1777395600@www.psad.org.uk
SUMMARY:Printmaking Etching (All levels) (0426-13856)
DESCRIPTION:
URL:https://www.psad.org.uk/event/printmaking-etching-all-levels-49/2026-04-28/
LOCATION:Main Site – Print Room
CATEGORIES:Course with Tutor
END:VEVENT
BEGIN:VEVENT
DTSTART;TZID=UTC:20260505T140000
DTEND;TZID=UTC:20260505T170000
DTSTAMP:20260420T092751
CREATED:20250710T172551Z
LAST-MODIFIED:20260410T081320Z
UID:169960-1777989600-1778000400@www.psad.org.uk
SUMMARY:Printmaking Etching (All levels) (0426-13856)
DESCRIPTION:
URL:https://www.psad.org.uk/event/printmaking-etching-all-levels-49/2026-05-05/
LOCATION:Main Site – Print Room
CATEGORIES:Course with Tutor
END:VEVENT
BEGIN:VEVENT
DTSTART;TZID=UTC:20260512T140000
DTEND;TZID=UTC:20260512T170000
DTSTAMP:20260420T092751
CREATED:20250710T172551Z
LAST-MODIFIED:20260410T081322Z
UID:169961-1778594400-1778605200@www.psad.org.uk
SUMMARY:Printmaking Etching (All levels) (0426-13856)
DESCRIPTION:
URL:https://www.psad.org.uk/event/printmaking-etching-all-levels-49/2026-05-12/
LOCATION:Main Site – Print Room
CATEGORIES:Course with Tutor
END:VEVENT
BEGIN:VEVENT
DTSTART;TZID=UTC:20260519T140000
DTEND;TZID=UTC:20260519T170000
DTSTAMP:20260420T092751
CREATED:20250710T172551Z
LAST-MODIFIED:20260410T081324Z
UID:169962-1779199200-1779210000@www.psad.org.uk
SUMMARY:Printmaking Etching (All levels) (0426-13856)
DESCRIPTION:
URL:https://www.psad.org.uk/event/printmaking-etching-all-levels-49/2026-05-19/
LOCATION:Main Site – Print Room
CATEGORIES:Course with Tutor
END:VEVENT
BEGIN:VEVENT
DTSTART;TZID=UTC:20260602T140000
DTEND;TZID=UTC:20260602T170000
DTSTAMP:20260420T092751
CREATED:20250710T172551Z
LAST-MODIFIED:20260410T081326Z
UID:169963-1780408800-1780419600@www.psad.org.uk
SUMMARY:Printmaking Etching (All levels) (0426-13856)
DESCRIPTION:
URL:https://www.psad.org.uk/event/printmaking-etching-all-levels-49/2026-06-02/
LOCATION:Main Site – Print Room
CATEGORIES:Course with Tutor
END:VEVENT
BEGIN:VEVENT
DTSTART;TZID=UTC:20260609T140000
DTEND;TZID=UTC:20260609T170000
DTSTAMP:20260420T092751
CREATED:20250710T172551Z
LAST-MODIFIED:20260410T081328Z
UID:169964-1781013600-1781024400@www.psad.org.uk
SUMMARY:Printmaking Etching (All levels) (0426-13856)
DESCRIPTION:
URL:https://www.psad.org.uk/event/printmaking-etching-all-levels-49/2026-06-09/
LOCATION:Main Site – Print Room
CATEGORIES:Course with Tutor
END:VEVENT
BEGIN:VEVENT
DTSTART;TZID=UTC:20260616T140000
DTEND;TZID=UTC:20260616T170000
DTSTAMP:20260420T092751
CREATED:20250710T172551Z
LAST-MODIFIED:20260410T081330Z
UID:169965-1781618400-1781629200@www.psad.org.uk
SUMMARY:Printmaking Etching (All levels) (0426-13856)
DESCRIPTION:
URL:https://www.psad.org.uk/event/printmaking-etching-all-levels-49/2026-06-16/
LOCATION:Main Site – Print Room
CATEGORIES:Course with Tutor
END:VEVENT
BEGIN:VEVENT
DTSTART;TZID=UTC:20260623T140000
DTEND;TZID=UTC:20260623T170000
DTSTAMP:20260420T092751
CREATED:20250710T172551Z
LAST-MODIFIED:20260410T081333Z
UID:169966-1782223200-1782234000@www.psad.org.uk
SUMMARY:Printmaking Etching (All levels) (0426-13856)
DESCRIPTION:
URL:https://www.psad.org.uk/event/printmaking-etching-all-levels-49/2026-06-23/
LOCATION:Main Site – Print Room
CATEGORIES:Course with Tutor
END:VEVENT
BEGIN:VEVENT
DTSTART;TZID=UTC:20260630T140000
DTEND;TZID=UTC:20260630T170000
DTSTAMP:20260420T092751
CREATED:20250710T172551Z
LAST-MODIFIED:20260410T081335Z
UID:169967-1782828000-1782838800@www.psad.org.uk
SUMMARY:Printmaking Etching (All levels) (0426-13856)
DESCRIPTION:
URL:https://www.psad.org.uk/event/printmaking-etching-all-levels-49/2026-06-30/
LOCATION:Main Site – Print Room
CATEGORIES:Course with Tutor
END:VEVENT
BEGIN:VEVENT
DTSTART;TZID=UTC:20260707T140000
DTEND;TZID=UTC:20260707T170000
DTSTAMP:20260420T092751
CREATED:20250710T172551Z
LAST-MODIFIED:20260410T081338Z
UID:169968-1783432800-1783443600@www.psad.org.uk
SUMMARY:Printmaking Etching (All levels) (0426-13856)
DESCRIPTION:
URL:https://www.psad.org.uk/event/printmaking-etching-all-levels-49/2026-07-07/
LOCATION:Main Site – Print Room
CATEGORIES:Course with Tutor
END:VEVENT
BEGIN:VEVENT
DTSTART;TZID=UTC:20260714T140000
DTEND;TZID=UTC:20260714T170000
DTSTAMP:20260420T092751
CREATED:20250710T172551Z
LAST-MODIFIED:20260410T081401Z
UID:169970-1784037600-1784048400@www.psad.org.uk
SUMMARY:Printmaking Etching (All levels) (0426-13856)
DESCRIPTION:
URL:https://www.psad.org.uk/event/printmaking-etching-all-levels-49/2026-07-14/
LOCATION:Main Site – Print Room
CATEGORIES:Course with Tutor
END:VEVENT
END:VCALENDAR