BEGIN:VCALENDAR
VERSION:2.0
PRODID:-//Putney School of Art and Design - ECPv6.6.3//NONSGML v1.0//EN
CALSCALE:GREGORIAN
METHOD:PUBLISH
X-ORIGINAL-URL:https://www.psad.org.uk
X-WR-CALDESC:Events for Putney School of Art and Design
REFRESH-INTERVAL;VALUE=DURATION:PT1H
X-Robots-Tag:noindex
X-PUBLISHED-TTL:PT1H
BEGIN:VTIMEZONE
TZID:UTC
BEGIN:STANDARD
TZOFFSETFROM:+0000
TZOFFSETTO:+0000
TZNAME:UTC
DTSTART:20260101T000000
END:STANDARD
END:VTIMEZONE
BEGIN:VEVENT
DTSTART;TZID=UTC:20260429T140000
DTEND;TZID=UTC:20260429T170000
DTSTAMP:20260424T101539
CREATED:20250715T184854Z
LAST-MODIFIED:20260210T224302Z
UID:170868-1777471200-1777482000@www.psad.org.uk
SUMMARY:Screenprinting (All levels) (0426-13882)
DESCRIPTION:
URL:https://www.psad.org.uk/event/screenprinting-all-levels-88/2026-04-29/
LOCATION:Main Site – Print Room
CATEGORIES:Course with Tutor
END:VEVENT
BEGIN:VEVENT
DTSTART;TZID=UTC:20260429T183000
DTEND;TZID=UTC:20260429T213000
DTSTAMP:20260424T101539
CREATED:20250716T164554Z
LAST-MODIFIED:20260210T225038Z
UID:171165-1777487400-1777498200@www.psad.org.uk
SUMMARY:Printmaking Etching (All levels) (0426-13890)
DESCRIPTION:
URL:https://www.psad.org.uk/event/printmaking-etching-all-levels-50/2026-04-29/
LOCATION:Main Site – Print Room
CATEGORIES:Course with Tutor
END:VEVENT
BEGIN:VEVENT
DTSTART;TZID=UTC:20260430T100000
DTEND;TZID=UTC:20260430T130000
DTSTAMP:20260424T101539
CREATED:20250716T181231Z
LAST-MODIFIED:20260210T220116Z
UID:171380-1777543200-1777554000@www.psad.org.uk
SUMMARY:Printmaking Etching (All levels) (0426-13898)
DESCRIPTION:
URL:https://www.psad.org.uk/event/printmaking-etching-all-levels-51/2026-04-30/
LOCATION:Main Site – Print Room
CATEGORIES:Course with Tutor
END:VEVENT
BEGIN:VEVENT
DTSTART;TZID=UTC:20260430T140000
DTEND;TZID=UTC:20260430T170000
DTSTAMP:20260424T101539
CREATED:20250717T172019Z
LAST-MODIFIED:20260210T200301Z
UID:171760-1777557600-1777568400@www.psad.org.uk
SUMMARY:Printmaking Etching (All levels) (0426-13907)
DESCRIPTION:
URL:https://www.psad.org.uk/event/printmaking-etching-all-levels-52/2026-04-30/
LOCATION:Main Site – Print Room
CATEGORIES:Course with Tutor
END:VEVENT
BEGIN:VEVENT
DTSTART;TZID=UTC:20260430T183000
DTEND;TZID=UTC:20260430T213000
DTSTAMP:20260424T101539
CREATED:20250717T185009Z
LAST-MODIFIED:20260210T104357Z
UID:171998-1777573800-1777584600@www.psad.org.uk
SUMMARY:Printmaking Etching (All levels) (0426-13916)
DESCRIPTION:
URL:https://www.psad.org.uk/event/printmaking-etching-all-levels-53/2026-04-30/
LOCATION:Main Site – Print Room
CATEGORIES:Course with Tutor
END:VEVENT
BEGIN:VEVENT
DTSTART;TZID=UTC:20260505T183000
DTEND;TZID=UTC:20260505T213000
DTSTAMP:20260424T101539
CREATED:20260129T193537Z
LAST-MODIFIED:20260415T142358Z
UID:194641-1778005800-1778016600@www.psad.org.uk
SUMMARY:Printmaking Etching (All levels) & PAYG (0426-14526)
DESCRIPTION:
URL:https://www.psad.org.uk/event/printmaking-etching-all-levels-13/2026-05-05/
LOCATION:Main Site – Print Room
CATEGORIES:Course with Tutor
END:VEVENT
BEGIN:VEVENT
DTSTART;TZID=UTC:20260511T183000
DTEND;TZID=UTC:20260511T213000
DTSTAMP:20260424T101539
CREATED:20260205T181609Z
LAST-MODIFIED:20260205T181725Z
UID:196010-1778524200-1778535000@www.psad.org.uk
SUMMARY:PAYG Screenprinting (0526-14626)
DESCRIPTION:
URL:https://www.psad.org.uk/event/payg-screenprinting-3/
LOCATION:Main Site – Print Room
CATEGORIES:Course with Tutor
END:VEVENT
BEGIN:VEVENT
DTSTART;TZID=UTC:20260517T100000
DTEND;TZID=UTC:20260517T160000
DTSTAMP:20260424T101539
CREATED:20260224T202815Z
LAST-MODIFIED:20260224T203153Z
UID:197418-1779012000-1779033600@www.psad.org.uk
SUMMARY:Open Studio Etching (0526-14652)
DESCRIPTION:
URL:https://www.psad.org.uk/event/open-studio-etching-5/
LOCATION:Main Site – Print Room
CATEGORIES:Course with Tutor
END:VEVENT
BEGIN:VEVENT
DTSTART;TZID=UTC:20260518T183000
DTEND;TZID=UTC:20260518T213000
DTSTAMP:20260424T101539
CREATED:20260205T182605Z
LAST-MODIFIED:20260205T182734Z
UID:196018-1779129000-1779139800@www.psad.org.uk
SUMMARY:PAYG Screenprinting (0526-14628)
DESCRIPTION:
URL:https://www.psad.org.uk/event/payg-screenprinting-4/
LOCATION:Main Site – Print Room
CATEGORIES:Course with Tutor
END:VEVENT
BEGIN:VEVENT
DTSTART;TZID=UTC:20260526T100000
DTEND;TZID=UTC:20260526T160000
DTSTAMP:20260424T101539
CREATED:20260127T183412Z
LAST-MODIFIED:20260420T120944Z
UID:193867-1779789600-1779811200@www.psad.org.uk
SUMMARY:May Half Term -  2 Days Etching All Levels (0526-14484)
DESCRIPTION:
URL:https://www.psad.org.uk/event/may-half-term-2-days-etching-all-levels-3/2026-05-26/
LOCATION:Main Site – Print Room
CATEGORIES:Course with Tutor
END:VEVENT
BEGIN:VEVENT
DTSTART;TZID=UTC:20260528T100000
DTEND;TZID=UTC:20260528T160000
DTSTAMP:20260424T101539
CREATED:20260127T205055Z
LAST-MODIFIED:20260420T122647Z
UID:194024-1779962400-1779984000@www.psad.org.uk
SUMMARY:May Half Term - Open Studio Etching (0526-14500)
DESCRIPTION:
URL:https://www.psad.org.uk/event/may-half-term-open-studio-etching-3/
LOCATION:Main Site – Print Room
CATEGORIES:Course with Tutor
END:VEVENT
BEGIN:VEVENT
DTSTART;TZID=UTC:20260529T100000
DTEND;TZID=UTC:20260529T160000
DTSTAMP:20260424T101539
CREATED:20260127T205446Z
LAST-MODIFIED:20260303T150737Z
UID:194033-1780048800-1780070400@www.psad.org.uk
SUMMARY:May Half Term - Painterly Screenprinting (0526-14502)
DESCRIPTION:
URL:https://www.psad.org.uk/event/may-half-term-painterly-screenprinting/
LOCATION:Main Site – Print Room
CATEGORIES:Course with Tutor
END:VEVENT
BEGIN:VEVENT
DTSTART;TZID=UTC:20260601T183000
DTEND;TZID=UTC:20260601T213000
DTSTAMP:20260424T101539
CREATED:20260205T183200Z
LAST-MODIFIED:20260205T183436Z
UID:196027-1780338600-1780349400@www.psad.org.uk
SUMMARY:PAYG Screenprinting (0626-14630)
DESCRIPTION:
URL:https://www.psad.org.uk/event/payg-screenprinting-5/
LOCATION:Main Site – Print Room
CATEGORIES:Course with Tutor
END:VEVENT
BEGIN:VEVENT
DTSTART;TZID=UTC:20260608T183000
DTEND;TZID=UTC:20260608T213000
DTSTAMP:20260424T101539
CREATED:20260205T184310Z
LAST-MODIFIED:20260205T184448Z
UID:196039-1780943400-1780954200@www.psad.org.uk
SUMMARY:PAYG Screenprinting (0626-14632)
DESCRIPTION:
URL:https://www.psad.org.uk/event/payg-screenprinting-6/
LOCATION:Main Site – Print Room
CATEGORIES:Course with Tutor
END:VEVENT
BEGIN:VEVENT
DTSTART;TZID=UTC:20260615T183000
DTEND;TZID=UTC:20260615T213000
DTSTAMP:20260424T101539
CREATED:20260205T184936Z
LAST-MODIFIED:20260205T185134Z
UID:196050-1781548200-1781559000@www.psad.org.uk
SUMMARY:PAYG Screenprinting (0626-14634)
DESCRIPTION:
URL:https://www.psad.org.uk/event/payg-screenprinting-7/
LOCATION:Main Site – Print Room
CATEGORIES:Course with Tutor
END:VEVENT
BEGIN:VEVENT
DTSTART;TZID=UTC:20260622T183000
DTEND;TZID=UTC:20260622T213000
DTSTAMP:20260424T101539
CREATED:20260205T185430Z
LAST-MODIFIED:20260205T185546Z
UID:196059-1782153000-1782163800@www.psad.org.uk
SUMMARY:PAYG Screenprinting (0626-14636)
DESCRIPTION:
URL:https://www.psad.org.uk/event/payg-screenprinting-8/
LOCATION:Main Site – Print Room
CATEGORIES:Course with Tutor
END:VEVENT
BEGIN:VEVENT
DTSTART;TZID=UTC:20260628T100000
DTEND;TZID=UTC:20260628T160000
DTSTAMP:20260424T101539
CREATED:20260224T203350Z
LAST-MODIFIED:20260224T203509Z
UID:197427-1782640800-1782662400@www.psad.org.uk
SUMMARY:Open Studio Etching (0626-14654)
DESCRIPTION:
URL:https://www.psad.org.uk/event/open-studio-etching-6/
LOCATION:Main Site – Print Room
CATEGORIES:Course with Tutor
END:VEVENT
BEGIN:VEVENT
DTSTART;TZID=UTC:20260629T183000
DTEND;TZID=UTC:20260629T213000
DTSTAMP:20260424T101539
CREATED:20260205T190524Z
LAST-MODIFIED:20260205T190641Z
UID:196066-1782757800-1782768600@www.psad.org.uk
SUMMARY:PAYG Screenprinting (0626-14638)
DESCRIPTION:
URL:https://www.psad.org.uk/event/payg-screenprinting-9/
LOCATION:Main Site – Print Room
CATEGORIES:Course with Tutor
END:VEVENT
BEGIN:VEVENT
DTSTART;TZID=UTC:20260706T183000
DTEND;TZID=UTC:20260706T213000
DTSTAMP:20260424T101539
CREATED:20260205T190833Z
LAST-MODIFIED:20260205T191000Z
UID:196074-1783362600-1783373400@www.psad.org.uk
SUMMARY:PAYG Screenprinting (0726-14640)
DESCRIPTION:
URL:https://www.psad.org.uk/event/payg-screenprinting-10/
LOCATION:Main Site – Print Room
CATEGORIES:Course with Tutor
END:VEVENT
BEGIN:VEVENT
DTSTART;TZID=UTC:20260713T183000
DTEND;TZID=UTC:20260713T213000
DTSTAMP:20260424T101539
CREATED:20260205T192257Z
LAST-MODIFIED:20260205T192408Z
UID:196085-1783967400-1783978200@www.psad.org.uk
SUMMARY:PAYG Screenprinting (0726-14642)
DESCRIPTION:
URL:https://www.psad.org.uk/event/payg-screenprinting-11/
LOCATION:Main Site – Print Room
CATEGORIES:Course with Tutor
END:VEVENT
BEGIN:VEVENT
DTSTART;TZID=UTC:20260720T183000
DTEND;TZID=UTC:20260720T213000
DTSTAMP:20260424T101539
CREATED:20260205T192943Z
LAST-MODIFIED:20260205T193109Z
UID:196094-1784572200-1784583000@www.psad.org.uk
SUMMARY:PAYG Screenprinting (0726-14644)
DESCRIPTION:
URL:https://www.psad.org.uk/event/payg-screenprinting-12/
LOCATION:Main Site – Print Room
CATEGORIES:Course with Tutor
END:VEVENT
END:VCALENDAR