BEGIN:VCALENDAR
VERSION:2.0
PRODID:-//Putney School of Art and Design - ECPv6.6.3//NONSGML v1.0//EN
CALSCALE:GREGORIAN
METHOD:PUBLISH
X-ORIGINAL-URL:https://www.psad.org.uk
X-WR-CALDESC:Events for Putney School of Art and Design
REFRESH-INTERVAL;VALUE=DURATION:PT1H
X-Robots-Tag:noindex
X-PUBLISHED-TTL:PT1H
BEGIN:VTIMEZONE
TZID:UTC
BEGIN:STANDARD
TZOFFSETFROM:+0000
TZOFFSETTO:+0000
TZNAME:UTC
DTSTART:20240101T000000
END:STANDARD
END:VTIMEZONE
BEGIN:VEVENT
DTSTART;TZID=UTC:20250808T100000
DTEND;TZID=UTC:20250808T160000
DTSTAMP:20260422T083205
CREATED:20250304T204042Z
LAST-MODIFIED:20250321T164957Z
UID:151847-1754647200-1754668800@www.psad.org.uk
SUMMARY:Summer School - 2 Days: Introduction to Pottery 14 Plus 3D Campus (0825-13399)
DESCRIPTION:
URL:https://www.psad.org.uk/event/summer-school-2-days-introduction-to-pottery-14-plus-3d-campus-2/2025-08-08/
LOCATION:On-Site
CATEGORIES:Course with Tutor
END:VEVENT
BEGIN:VEVENT
DTSTART;TZID=UTC:20250808T100000
DTEND;TZID=UTC:20250808T160000
DTSTAMP:20260422T083205
CREATED:20250304T203103Z
LAST-MODIFIED:20250321T164817Z
UID:151833-1754647200-1754668800@www.psad.org.uk
SUMMARY:Summer School - 2 Days: Art and Design for Young People 13-17 years (0825-13396)
DESCRIPTION:
URL:https://www.psad.org.uk/event/summer-school-2-days-art-and-design-for-young-people-13-17-years-4/2025-08-08/
LOCATION:On-Site
CATEGORIES:Course with Tutor
END:VEVENT
BEGIN:VEVENT
DTSTART;TZID=UTC:20250808T100000
DTEND;TZID=UTC:20250808T160000
DTSTAMP:20260422T083205
CREATED:20250304T194108Z
LAST-MODIFIED:20250321T164711Z
UID:151816-1754647200-1754668800@www.psad.org.uk
SUMMARY:Summer School - Open Studio Etching (0825-13393)
DESCRIPTION:
URL:https://www.psad.org.uk/event/summer-school-open-studio-etching-13/
LOCATION:On-Site
CATEGORIES:Course with Tutor
END:VEVENT
BEGIN:VEVENT
DTSTART;TZID=UTC:20250808T100000
DTEND;TZID=UTC:20250808T160000
DTSTAMP:20260422T083205
CREATED:20250304T192824Z
LAST-MODIFIED:20250321T164524Z
UID:151798-1754647200-1754668800@www.psad.org.uk
SUMMARY:Summer School - 2 Days: Watercolour & Experimental Techniques (0825-13389)
DESCRIPTION:
URL:https://www.psad.org.uk/event/summer-school-2-days-watercolour-experimental-techniques/2025-08-08/
LOCATION:On-Site
CATEGORIES:Course with Tutor
END:VEVENT
BEGIN:VEVENT
DTSTART;TZID=UTC:20250808T100000
DTEND;TZID=UTC:20250808T160000
DTSTAMP:20260422T083205
CREATED:20250304T185329Z
LAST-MODIFIED:20250321T164317Z
UID:151771-1754647200-1754668800@www.psad.org.uk
SUMMARY:Summer School - Pastel Portraits (0825-13388)
DESCRIPTION:
URL:https://www.psad.org.uk/event/summer-school-pastel-portraits-4/
LOCATION:On-Site
CATEGORIES:Course with Tutor
END:VEVENT
BEGIN:VEVENT
DTSTART;TZID=UTC:20250808T100000
DTEND;TZID=UTC:20250808T160000
DTSTAMP:20260422T083205
CREATED:20250304T184144Z
LAST-MODIFIED:20250321T164111Z
UID:151753-1754647200-1754668800@www.psad.org.uk
SUMMARY:Summer School - Life Drawing (All Levels) (0825-13384)
DESCRIPTION:
URL:https://www.psad.org.uk/event/summer-school-life-drawing-all-levels-2/
LOCATION:On-Site
CATEGORIES:Course with Tutor
END:VEVENT
BEGIN:VEVENT
DTSTART;TZID=UTC:20250808T100000
DTEND;TZID=UTC:20250808T160000
DTSTAMP:20260422T083205
CREATED:20250303T183811Z
LAST-MODIFIED:20250321T163313Z
UID:151613-1754647200-1754668800@www.psad.org.uk
SUMMARY:Summer School - Intensive Throwing Week - 3D Campus (0825-13366)
DESCRIPTION:
URL:https://www.psad.org.uk/event/summer-school-intensive-throwing-week-3d-campus-3/2025-08-08/
LOCATION:On-Site
CATEGORIES:Course with Tutor
END:VEVENT
BEGIN:VEVENT
DTSTART;TZID=UTC:20250807T100000
DTEND;TZID=UTC:20250807T160000
DTSTAMP:20260422T083205
CREATED:20250304T193546Z
LAST-MODIFIED:20250321T164541Z
UID:151805-1754560800-1754582400@www.psad.org.uk
SUMMARY:Summer School - Open Studio Etching (0825-13391)
DESCRIPTION:
URL:https://www.psad.org.uk/event/summer-school-open-studio-etching-12/
LOCATION:On-Site
CATEGORIES:Course with Tutor
END:VEVENT
BEGIN:VEVENT
DTSTART;TZID=UTC:20250807T100000
DTEND;TZID=UTC:20250807T160000
DTSTAMP:20260422T083205
CREATED:20250304T184708Z
LAST-MODIFIED:20250603T112235Z
UID:151762-1754560800-1754582400@www.psad.org.uk
SUMMARY:Summer School - Expressive Pastels: Landscapes (0825-13386)
DESCRIPTION:
URL:https://www.psad.org.uk/event/summer-school-expressive-pastels-landscapes-4/
LOCATION:On-Site
CATEGORIES:Course with Tutor
END:VEVENT
BEGIN:VEVENT
DTSTART;TZID=UTC:20250807T100000
DTEND;TZID=UTC:20250807T160000
DTSTAMP:20260422T083205
CREATED:20250304T183819Z
LAST-MODIFIED:20250321T164023Z
UID:151746-1754560800-1754582400@www.psad.org.uk
SUMMARY:Summer School - Portrait Drawing (0825-13382)
DESCRIPTION:
URL:https://www.psad.org.uk/event/summer-school-portrait-drawing-3/
LOCATION:On-Site
CATEGORIES:Course with Tutor
END:VEVENT
BEGIN:VEVENT
DTSTART;TZID=UTC:20250806T100000
DTEND;TZID=UTC:20250806T160000
DTSTAMP:20260422T083205
CREATED:20250304T183219Z
LAST-MODIFIED:20250603T111357Z
UID:151737-1754474400-1754496000@www.psad.org.uk
SUMMARY:Summer School - Learn to Draw 3D Campus (0825-13380)
DESCRIPTION:
URL:https://www.psad.org.uk/event/summer-school-learn-to-draw-3d-campus/
LOCATION:On-Site
CATEGORIES:Course with Tutor
END:VEVENT
BEGIN:VEVENT
DTSTART;TZID=UTC:20250806T100000
DTEND;TZID=UTC:20250806T160000
DTSTAMP:20260422T083205
CREATED:20250303T181222Z
LAST-MODIFIED:20250321T162929Z
UID:151584-1754474400-1754496000@www.psad.org.uk
SUMMARY:Summer School - 2 Days: Exploring Etching on Steel (0825-13362)
DESCRIPTION:
URL:https://www.psad.org.uk/event/summer-school-2-days-exploring-etching-on-steel/2025-08-06/
LOCATION:On-Site
CATEGORIES:Course with Tutor
END:VEVENT
BEGIN:VEVENT
DTSTART;TZID=UTC:20250806T100000
DTEND;TZID=UTC:20250806T160000
DTSTAMP:20260422T083205
CREATED:20250303T175218Z
LAST-MODIFIED:20250321T162716Z
UID:151567-1754474400-1754496000@www.psad.org.uk
SUMMARY:Summer School - Expressive Pastels: Still Life (0825-13359)
DESCRIPTION:
URL:https://www.psad.org.uk/event/summer-school-expressive-pastels-still-life-4/
LOCATION:On-Site
CATEGORIES:Course with Tutor
END:VEVENT
BEGIN:VEVENT
DTSTART;TZID=UTC:20250806T100000
DTEND;TZID=UTC:20250806T160000
DTSTAMP:20260422T083205
CREATED:20250303T171526Z
LAST-MODIFIED:20250603T091733Z
UID:151557-1754474400-1754496000@www.psad.org.uk
SUMMARY:Summer School - 3 Days: Art and Design for Young People 13-17 years (0825-13356)
DESCRIPTION:
URL:https://www.psad.org.uk/event/summer-school-3-days-art-and-design-for-young-people-13-17-years/2025-08-06/
LOCATION:On-Site
CATEGORIES:Course with Tutor
END:VEVENT
BEGIN:VEVENT
DTSTART;TZID=UTC:20250806T100000
DTEND;TZID=UTC:20250806T160000
DTSTAMP:20260422T083205
CREATED:20250303T171153Z
LAST-MODIFIED:20250603T091548Z
UID:151549-1754474400-1754496000@www.psad.org.uk
SUMMARY:Summer School - Composition & Colour: Joan Eardley and the influence of Turner and Constable (0825-13355)
DESCRIPTION:
URL:https://www.psad.org.uk/event/summer-school-composition-colour-joan-eardly-and-the-influence-of-turner-and-constable/2025-08-06/
LOCATION:On-Site
CATEGORIES:Course with Tutor
END:VEVENT
BEGIN:VEVENT
DTSTART;TZID=UTC:20250805T100000
DTEND;TZID=UTC:20250805T160000
DTSTAMP:20260422T083205
CREATED:20250303T174855Z
LAST-MODIFIED:20250321T162637Z
UID:151562-1754388000-1754409600@www.psad.org.uk
SUMMARY:Summer School - 2 Days: Introduction to Watercolour (0825-13357)
DESCRIPTION:
URL:https://www.psad.org.uk/event/summer-school-2-days-introduction-to-watercolour-3/2025-08-05/
LOCATION:On-Site
CATEGORIES:Course with Tutor
END:VEVENT
BEGIN:VEVENT
DTSTART;TZID=UTC:20250804T100000
DTEND;TZID=UTC:20250804T160000
DTSTAMP:20260422T083205
CREATED:20250303T182059Z
LAST-MODIFIED:20250321T163115Z
UID:151589-1754301600-1754323200@www.psad.org.uk
SUMMARY:Summer School - Experimental Printmaking (0825-13364)
DESCRIPTION:
URL:https://www.psad.org.uk/event/summer-school-2-days-experimental-printmaking-3/
LOCATION:On-Site
CATEGORIES:Course with Tutor
END:VEVENT
BEGIN:VEVENT
DTSTART;VALUE=DATE:20250501
DTEND;VALUE=DATE:20250901
DTSTAMP:20260422T083205
CREATED:20250429T185612Z
LAST-MODIFIED:20250429T194813Z
UID:155134-1746057600-1756684799@www.psad.org.uk
SUMMARY:PSAD Ceramics & Pottery Technician Course (0525-13473)
DESCRIPTION:
URL:https://www.psad.org.uk/event/psad-ceramics-pottery-technician-course-6/
LOCATION:On-Site
CATEGORIES:Course with Tutor
END:VEVENT
BEGIN:VEVENT
DTSTART;TZID=UTC:20240603T080000
DTEND;TZID=UTC:20240603T170000
DTSTAMP:20260422T083205
CREATED:20240611T134350Z
LAST-MODIFIED:20240611T134440Z
UID:120481-1717401600-1717434000@www.psad.org.uk
SUMMARY:PSAD Ceramics & Pottery Technician Course June 2024 (0624-12632)
DESCRIPTION:
URL:https://www.psad.org.uk/event/psad-ceramics-pottery-technician-course-june-2024/2024-06-03/
LOCATION:On-Site
CATEGORIES:Course with Tutor
END:VEVENT
END:VCALENDAR